BEGIN:VCALENDAR
VERSION:2.0
PRODID:-//KGS - ECPv6.15.20//NONSGML v1.0//EN
CALSCALE:GREGORIAN
METHOD:PUBLISH
X-WR-CALNAME:KGS
X-ORIGINAL-URL:https://kgs-schneverdingen.de
X-WR-CALDESC:Veranstaltungen für KGS
REFRESH-INTERVAL;VALUE=DURATION:PT1H
X-Robots-Tag:noindex
X-PUBLISHED-TTL:PT1H
BEGIN:VTIMEZONE
TZID:Europe/Berlin
BEGIN:DAYLIGHT
TZOFFSETFROM:+0100
TZOFFSETTO:+0200
TZNAME:CEST
DTSTART:20240331T010000
END:DAYLIGHT
BEGIN:STANDARD
TZOFFSETFROM:+0200
TZOFFSETTO:+0100
TZNAME:CET
DTSTART:20241027T010000
END:STANDARD
BEGIN:DAYLIGHT
TZOFFSETFROM:+0100
TZOFFSETTO:+0200
TZNAME:CEST
DTSTART:20250330T010000
END:DAYLIGHT
BEGIN:STANDARD
TZOFFSETFROM:+0200
TZOFFSETTO:+0100
TZNAME:CET
DTSTART:20251026T010000
END:STANDARD
BEGIN:DAYLIGHT
TZOFFSETFROM:+0100
TZOFFSETTO:+0200
TZNAME:CEST
DTSTART:20260329T010000
END:DAYLIGHT
BEGIN:STANDARD
TZOFFSETFROM:+0200
TZOFFSETTO:+0100
TZNAME:CET
DTSTART:20261025T010000
END:STANDARD
BEGIN:DAYLIGHT
TZOFFSETFROM:+0100
TZOFFSETTO:+0200
TZNAME:CEST
DTSTART:20270328T010000
END:DAYLIGHT
BEGIN:STANDARD
TZOFFSETFROM:+0200
TZOFFSETTO:+0100
TZNAME:CET
DTSTART:20271031T010000
END:STANDARD
END:VTIMEZONE
BEGIN:VEVENT
DTSTART;VALUE=DATE:20251222
DTEND;VALUE=DATE:20260106
DTSTAMP:20260419T141817
CREATED:20250707T083214Z
LAST-MODIFIED:20250707T083214Z
UID:28726-1766361600-1767657599@kgs-schneverdingen.de
SUMMARY:Weihnachtsferien
DESCRIPTION:
URL:https://kgs-schneverdingen.de/event/weihnachtsferien-2/
CATEGORIES:Ferien
END:VEVENT
BEGIN:VEVENT
DTSTART;VALUE=DATE:20260103
DTEND;VALUE=DATE:20260111
DTSTAMP:20260419T141817
CREATED:20250901T053510Z
LAST-MODIFIED:20250905T062728Z
UID:28940-1767398400-1768089599@kgs-schneverdingen.de
SUMMARY:Skikursfahrt
DESCRIPTION:
URL:https://kgs-schneverdingen.de/event/skikursfahrt/
CATEGORIES:Veranstaltung
END:VEVENT
BEGIN:VEVENT
DTSTART;VALUE=DATE:20260115
DTEND;VALUE=DATE:20260116
DTSTAMP:20260419T141817
CREATED:20251028T084523Z
LAST-MODIFIED:20251028T084523Z
UID:29075-1768435200-1768521599@kgs-schneverdingen.de
SUMMARY:Jugend debattiert - Qualifikation
DESCRIPTION:
URL:https://kgs-schneverdingen.de/event/jugend-debattiert-qualifikation/
CATEGORIES:Veranstaltung
END:VEVENT
BEGIN:VEVENT
DTSTART;VALUE=DATE:20260116
DTEND;VALUE=DATE:20260117
DTSTAMP:20260419T141817
CREATED:20251028T084622Z
LAST-MODIFIED:20251028T084622Z
UID:29077-1768521600-1768607999@kgs-schneverdingen.de
SUMMARY:Jugend debattiert - Finaldebatten
DESCRIPTION:
URL:https://kgs-schneverdingen.de/event/jugend-debattiert-finaldebatten/
LOCATION:Forum der KGS Schneverdingen\, Am Timmerahde 28-30\, Schnevedingen\, 29640\, Deutschland
CATEGORIES:Veranstaltung
END:VEVENT
BEGIN:VEVENT
DTSTART;TZID=Europe/Berlin:20260116T140000
DTEND;TZID=Europe/Berlin:20260116T140000
DTSTAMP:20260419T141817
CREATED:20250707T091013Z
LAST-MODIFIED:20250806T203458Z
UID:28728-1768572000-1768572000@kgs-schneverdingen.de
SUMMARY:Notenschluss Jg. 5-11
DESCRIPTION:
URL:https://kgs-schneverdingen.de/event/notenschluss/
END:VEVENT
BEGIN:VEVENT
DTSTART;VALUE=DATE:20260119
DTEND;VALUE=DATE:20260120
DTSTAMP:20260419T141817
CREATED:20250707T091235Z
LAST-MODIFIED:20250707T091235Z
UID:28730-1768780800-1768867199@kgs-schneverdingen.de
SUMMARY:Zeugniskonferenzen Jg. 5 & 11
DESCRIPTION:
URL:https://kgs-schneverdingen.de/event/zeugniskonferenzen-jg-5-11/
END:VEVENT
BEGIN:VEVENT
DTSTART;VALUE=DATE:20260119
DTEND;VALUE=DATE:20260124
DTSTAMP:20260419T141817
CREATED:20250210T153036Z
LAST-MODIFIED:20250210T153036Z
UID:27972-1768780800-1769212799@kgs-schneverdingen.de
SUMMARY:Vorhabenwoche 2 im SJ 25-26
DESCRIPTION:
URL:https://kgs-schneverdingen.de/event/vorhabenwoche-2-im-sj-25-26/
CATEGORIES:Vorhaben
END:VEVENT
BEGIN:VEVENT
DTSTART;VALUE=DATE:20260120
DTEND;VALUE=DATE:20260121
DTSTAMP:20260419T141817
CREATED:20250707T091320Z
LAST-MODIFIED:20250707T091320Z
UID:28732-1768867200-1768953599@kgs-schneverdingen.de
SUMMARY:Zeugniskonferenzen Jg. 6
DESCRIPTION:
URL:https://kgs-schneverdingen.de/event/zeugniskonferenzen-jg-6/
END:VEVENT
BEGIN:VEVENT
DTSTART;TZID=Europe/Berlin:20260120T190000
DTEND;TZID=Europe/Berlin:20260120T203000
DTSTAMP:20260419T141817
CREATED:20251104T105849Z
LAST-MODIFIED:20251104T105849Z
UID:29080-1768935600-1768941000@kgs-schneverdingen.de
SUMMARY:Förderverein
DESCRIPTION:Sitzung des Vorstands des Fördervereins der KGS.
URL:https://kgs-schneverdingen.de/event/foerderverein/
LOCATION:Schulleiterbüro\, Am Timmerahde 28-30\, Schneverdingen\, 29640
CATEGORIES:Veranstaltung
END:VEVENT
BEGIN:VEVENT
DTSTART;VALUE=DATE:20260121
DTEND;VALUE=DATE:20260122
DTSTAMP:20260419T141817
CREATED:20250707T091439Z
LAST-MODIFIED:20250707T091439Z
UID:28734-1768953600-1769039999@kgs-schneverdingen.de
SUMMARY:Zeugniskonferenzen Jg. 7 & 8
DESCRIPTION:
URL:https://kgs-schneverdingen.de/event/zeugniskonferenzen-jg-7-8-2/
END:VEVENT
BEGIN:VEVENT
DTSTART;VALUE=DATE:20260122
DTEND;VALUE=DATE:20260123
DTSTAMP:20260419T141817
CREATED:20250707T091539Z
LAST-MODIFIED:20250707T091539Z
UID:28736-1769040000-1769126399@kgs-schneverdingen.de
SUMMARY:Zeugniskonferenzen Jg. 9 & 10
DESCRIPTION:
URL:https://kgs-schneverdingen.de/event/zeugniskonferenzen-jg-9-10-2/
END:VEVENT
BEGIN:VEVENT
DTSTART;VALUE=DATE:20260122
DTEND;VALUE=DATE:20260123
DTSTAMP:20260419T141817
CREATED:20250924T141306Z
LAST-MODIFIED:20250924T141306Z
UID:29009-1769040000-1769126399@kgs-schneverdingen.de
SUMMARY:Praktische Berufsweltorientierung
DESCRIPTION:
URL:https://kgs-schneverdingen.de/event/praktische-berufsweltorientierung-2/
LOCATION:Forum der KGS Schneverdingen\, Am Timmerahde 28-30\, Schnevedingen\, 29640\, Deutschland
CATEGORIES:Veranstaltung
END:VEVENT
BEGIN:VEVENT
DTSTART;VALUE=DATE:20260127
DTEND;VALUE=DATE:20260128
DTSTAMP:20260419T141817
CREATED:20251204T073353Z
LAST-MODIFIED:20251204T073353Z
UID:29155-1769472000-1769558399@kgs-schneverdingen.de
SUMMARY:Speedpraktikum
DESCRIPTION:Realschulzweig
URL:https://kgs-schneverdingen.de/event/speedpraktikum/
CATEGORIES:Veranstaltung
END:VEVENT
BEGIN:VEVENT
DTSTART;VALUE=DATE:20260128
DTEND;VALUE=DATE:20260129
DTSTAMP:20260419T141817
CREATED:20251204T073442Z
LAST-MODIFIED:20251204T073442Z
UID:29157-1769558400-1769644799@kgs-schneverdingen.de
SUMMARY:Speedpraktikum
DESCRIPTION:Hauptschulzweig
URL:https://kgs-schneverdingen.de/event/speedpraktikum-2/
CATEGORIES:Veranstaltung
END:VEVENT
BEGIN:VEVENT
DTSTART;VALUE=DATE:20260130
DTEND;VALUE=DATE:20260131
DTSTAMP:20260419T141817
CREATED:20250327T094106Z
LAST-MODIFIED:20250327T094106Z
UID:28164-1769731200-1769817599@kgs-schneverdingen.de
SUMMARY:Zeugnisausgabe
DESCRIPTION:Unterricht von der 1. – 3. Stunde
URL:https://kgs-schneverdingen.de/event/zeugnisausgabe/
END:VEVENT
END:VCALENDAR