BEGIN:VCALENDAR
VERSION:2.0
PRODID:-//KGS - ECPv6.15.20//NONSGML v1.0//EN
CALSCALE:GREGORIAN
METHOD:PUBLISH
X-ORIGINAL-URL:https://kgs-schneverdingen.de
X-WR-CALDESC:Veranstaltungen für KGS
REFRESH-INTERVAL;VALUE=DURATION:PT1H
X-Robots-Tag:noindex
X-PUBLISHED-TTL:PT1H
BEGIN:VTIMEZONE
TZID:Europe/Berlin
BEGIN:DAYLIGHT
TZOFFSETFROM:+0100
TZOFFSETTO:+0200
TZNAME:CEST
DTSTART:20240331T010000
END:DAYLIGHT
BEGIN:STANDARD
TZOFFSETFROM:+0200
TZOFFSETTO:+0100
TZNAME:CET
DTSTART:20241027T010000
END:STANDARD
BEGIN:DAYLIGHT
TZOFFSETFROM:+0100
TZOFFSETTO:+0200
TZNAME:CEST
DTSTART:20250330T010000
END:DAYLIGHT
BEGIN:STANDARD
TZOFFSETFROM:+0200
TZOFFSETTO:+0100
TZNAME:CET
DTSTART:20251026T010000
END:STANDARD
BEGIN:DAYLIGHT
TZOFFSETFROM:+0100
TZOFFSETTO:+0200
TZNAME:CEST
DTSTART:20260329T010000
END:DAYLIGHT
BEGIN:STANDARD
TZOFFSETFROM:+0200
TZOFFSETTO:+0100
TZNAME:CET
DTSTART:20261025T010000
END:STANDARD
END:VTIMEZONE
BEGIN:VEVENT
DTSTART;VALUE=DATE:20251027
DTEND;VALUE=DATE:20251108
DTSTAMP:20260419T172839
CREATED:20230929T102027Z
LAST-MODIFIED:20230929T102027Z
UID:25208-1761523200-1762559999@kgs-schneverdingen.de
SUMMARY:UNIwärts & Betriebspraktikum Jg. 11
DESCRIPTION:
URL:https://kgs-schneverdingen.de/event/uniwaerts-betriebspraktikum-jg-11/
END:VEVENT
BEGIN:VEVENT
DTSTART;VALUE=DATE:20251103
DTEND;VALUE=DATE:20251106
DTSTAMP:20260419T172839
CREATED:20250327T093321Z
LAST-MODIFIED:20250327T093321Z
UID:28154-1762128000-1762387199@kgs-schneverdingen.de
SUMMARY:Pädagogische Konferenzen Basisstufe
DESCRIPTION:
URL:https://kgs-schneverdingen.de/event/paedagogische-konferenzen-basisstufe/
END:VEVENT
BEGIN:VEVENT
DTSTART;VALUE=DATE:20251103
DTEND;VALUE=DATE:20251108
DTSTAMP:20260419T172839
CREATED:20241216T074042Z
LAST-MODIFIED:20241216T074042Z
UID:27796-1762128000-1762559999@kgs-schneverdingen.de
SUMMARY:UNIwärts
DESCRIPTION:
URL:https://kgs-schneverdingen.de/event/uniwaerts-5/
CATEGORIES:Betriebspraktika
END:VEVENT
BEGIN:VEVENT
DTSTART;TZID=Europe/Berlin:20251103T093000
DTEND;TZID=Europe/Berlin:20251103T111000
DTSTAMP:20260419T172839
CREATED:20250908T090233Z
LAST-MODIFIED:20250908T090233Z
UID:28964-1762162200-1762168200@kgs-schneverdingen.de
SUMMARY:Spelling Contest 6. Klassen
DESCRIPTION:
URL:https://kgs-schneverdingen.de/event/spelling-contest-6-klassen/
CATEGORIES:Veranstaltung
END:VEVENT
BEGIN:VEVENT
DTSTART;TZID=Europe/Berlin:20251103T140000
DTEND;TZID=Europe/Berlin:20251103T170000
DTSTAMP:20260419T172839
CREATED:20250912T111609Z
LAST-MODIFIED:20250912T111609Z
UID:28973-1762178400-1762189200@kgs-schneverdingen.de
SUMMARY:Pädagogische Konferenzen Basisstufe
DESCRIPTION:Für die Lehrkräfte der Klassen 5.1 / 5.2 / 5.3 und 5.4
URL:https://kgs-schneverdingen.de/event/paedagogische-konferenzen-basisstufe-2/
END:VEVENT
BEGIN:VEVENT
DTSTART;VALUE=DATE:20251104
DTEND;VALUE=DATE:20251105
DTSTAMP:20260419T172839
CREATED:20241021T072801Z
LAST-MODIFIED:20241021T072808Z
UID:27428-1762214400-1762300799@kgs-schneverdingen.de
SUMMARY:Infotag Rat?Los!
DESCRIPTION:
URL:https://kgs-schneverdingen.de/event/infotag-ratlos-2/
LOCATION:KGS Schneverdingen\, Am Timmerahde 28-30\, Schneverdingen\, 29640
CATEGORIES:Veranstaltung
END:VEVENT
BEGIN:VEVENT
DTSTART;TZID=Europe/Berlin:20251105T140000
DTEND;TZID=Europe/Berlin:20251105T170000
DTSTAMP:20260419T172839
CREATED:20250912T111734Z
LAST-MODIFIED:20250912T111734Z
UID:28975-1762351200-1762362000@kgs-schneverdingen.de
SUMMARY:Pädagogische Konferenzen Basisstufe
DESCRIPTION:Für die Lehrkräfte der Klassen 5.5 / 5.6 / 5.7 und 5.8
URL:https://kgs-schneverdingen.de/event/paedagogische-konferenzen-basisstufe-3/
END:VEVENT
BEGIN:VEVENT
DTSTART;TZID=Europe/Berlin:20251106T190000
DTEND;TZID=Europe/Berlin:20251106T210000
DTSTAMP:20260419T172839
CREATED:20250707T082942Z
LAST-MODIFIED:20250707T082942Z
UID:28724-1762455600-1762462800@kgs-schneverdingen.de
SUMMARY:Schulvorstand
DESCRIPTION:
URL:https://kgs-schneverdingen.de/event/schulvorstand/
END:VEVENT
BEGIN:VEVENT
DTSTART;TZID=Europe/Berlin:20251107T180000
DTEND;TZID=Europe/Berlin:20251107T210000
DTSTAMP:20260419T172839
CREATED:20250917T100710Z
LAST-MODIFIED:20250922T122757Z
UID:28989-1762538400-1762549200@kgs-schneverdingen.de
SUMMARY:Halloween-Disco
DESCRIPTION:Für die Jahrgänge 5 & 6 der KGS
URL:https://kgs-schneverdingen.de/event/halloween-disco/
LOCATION:Nebengebäude der KGS\, Am Timmerahde 28-30\, Schneverdingen\, 29640\, Deutschland
CATEGORIES:Veranstaltung
END:VEVENT
BEGIN:VEVENT
DTSTART;VALUE=DATE:20251110
DTEND;VALUE=DATE:20251115
DTSTAMP:20260419T172839
CREATED:20250327T093404Z
LAST-MODIFIED:20250327T093404Z
UID:28156-1762732800-1763164799@kgs-schneverdingen.de
SUMMARY:Beratungstage Basisstufe
DESCRIPTION:
URL:https://kgs-schneverdingen.de/event/beratungstage-basisstufe/
END:VEVENT
BEGIN:VEVENT
DTSTART;VALUE=DATE:20251111
DTEND;VALUE=DATE:20251113
DTSTAMP:20260419T172839
CREATED:20250528T091404Z
LAST-MODIFIED:20250528T091404Z
UID:28333-1762819200-1762991999@kgs-schneverdingen.de
SUMMARY:Autorenlesungen
DESCRIPTION:Für Jahrgang 5
URL:https://kgs-schneverdingen.de/event/autorenlesungen/
CATEGORIES:Veranstaltung
END:VEVENT
BEGIN:VEVENT
DTSTART;VALUE=DATE:20251114
DTEND;VALUE=DATE:20251115
DTSTAMP:20260419T172839
CREATED:20250327T093437Z
LAST-MODIFIED:20250327T093437Z
UID:28158-1763078400-1763164799@kgs-schneverdingen.de
SUMMARY:Zwischennoten Jg. 6-13
DESCRIPTION:
URL:https://kgs-schneverdingen.de/event/zwischennoten-jg-6-13/
END:VEVENT
BEGIN:VEVENT
DTSTART;VALUE=DATE:20251118
DTEND;VALUE=DATE:20251120
DTSTAMP:20260419T172839
CREATED:20250528T091447Z
LAST-MODIFIED:20250528T091447Z
UID:28335-1763424000-1763596799@kgs-schneverdingen.de
SUMMARY:Autorenlesung
DESCRIPTION:Für Jahrgang 6
URL:https://kgs-schneverdingen.de/event/autorenlesung/
CATEGORIES:Veranstaltung
END:VEVENT
BEGIN:VEVENT
DTSTART;TZID=Europe/Berlin:20251119T080000
DTEND;TZID=Europe/Berlin:20251119T120000
DTSTAMP:20260419T172839
CREATED:20251010T102829Z
LAST-MODIFIED:20251010T102829Z
UID:29053-1763539200-1763553600@kgs-schneverdingen.de
SUMMARY:Aktion Orthofit für alle 5. Klassen
DESCRIPTION:
URL:https://kgs-schneverdingen.de/event/aktion-orthofit-fuer-alle-5-klassen/
CATEGORIES:Veranstaltung
END:VEVENT
BEGIN:VEVENT
DTSTART;TZID=Europe/Berlin:20251119T180000
DTEND;TZID=Europe/Berlin:20251119T190000
DTSTAMP:20260419T172839
CREATED:20250818T083709Z
LAST-MODIFIED:20250818T083709Z
UID:28890-1763575200-1763578800@kgs-schneverdingen.de
SUMMARY:Elternabend: Polizei informiert über Handynutzung für alle 5.Klassen
DESCRIPTION:
URL:https://kgs-schneverdingen.de/event/elternabend-polizei-informiert-ueber-handynutzung-fuer-alle-5-klassen/
LOCATION:Forum der KGS Schneverdingen\, Am Timmerahde 28-30\, Schnevedingen\, 29640\, Deutschland
CATEGORIES:Veranstaltung
END:VEVENT
BEGIN:VEVENT
DTSTART;VALUE=DATE:20251120
DTEND;VALUE=DATE:20251121
DTSTAMP:20260419T172839
CREATED:20250306T104744Z
LAST-MODIFIED:20250306T104744Z
UID:28090-1763596800-1763683199@kgs-schneverdingen.de
SUMMARY:IHK-Ausbildungsbotschafter
DESCRIPTION:
URL:https://kgs-schneverdingen.de/event/ihk-ausbildungsbotschafter-3/
LOCATION:KGS Schneverdingen\, Am Timmerahde 28-30\, Schneverdingen\, 29640
CATEGORIES:Veranstaltung
END:VEVENT
BEGIN:VEVENT
DTSTART;TZID=Europe/Berlin:20251120T160000
DTEND;TZID=Europe/Berlin:20251120T190000
DTSTAMP:20260419T172839
CREATED:20250327T093936Z
LAST-MODIFIED:20250327T093936Z
UID:28160-1763654400-1763665200@kgs-schneverdingen.de
SUMMARY:Elternsprechtag
DESCRIPTION:
URL:https://kgs-schneverdingen.de/event/elternsprechtag-5/
END:VEVENT
BEGIN:VEVENT
DTSTART;TZID=Europe/Berlin:20251124T160000
DTEND;TZID=Europe/Berlin:20251124T190000
DTSTAMP:20260419T172839
CREATED:20250327T094007Z
LAST-MODIFIED:20250327T094007Z
UID:28162-1764000000-1764010800@kgs-schneverdingen.de
SUMMARY:Elternsprechtag
DESCRIPTION:
URL:https://kgs-schneverdingen.de/event/elternsprechtag-6/
END:VEVENT
BEGIN:VEVENT
DTSTART;VALUE=DATE:20251127
DTEND;VALUE=DATE:20251128
DTSTAMP:20260419T172839
CREATED:20250306T104834Z
LAST-MODIFIED:20250306T104834Z
UID:28092-1764201600-1764287999@kgs-schneverdingen.de
SUMMARY:IHK-Ausbildungsbotschafter
DESCRIPTION:
URL:https://kgs-schneverdingen.de/event/ihk-ausbildungsbotschafter-4/
LOCATION:KGS Schneverdingen\, Am Timmerahde 28-30\, Schneverdingen\, 29640
CATEGORIES:Veranstaltung
END:VEVENT
END:VCALENDAR