BEGIN:VCALENDAR
VERSION:2.0
PRODID:-//KGS - ECPv6.15.20//NONSGML v1.0//EN
CALSCALE:GREGORIAN
METHOD:PUBLISH
X-ORIGINAL-URL:https://kgs-schneverdingen.de
X-WR-CALDESC:Veranstaltungen für KGS
REFRESH-INTERVAL;VALUE=DURATION:PT1H
X-Robots-Tag:noindex
X-PUBLISHED-TTL:PT1H
BEGIN:VTIMEZONE
TZID:Europe/Berlin
BEGIN:DAYLIGHT
TZOFFSETFROM:+0100
TZOFFSETTO:+0200
TZNAME:CEST
DTSTART:20240331T010000
END:DAYLIGHT
BEGIN:STANDARD
TZOFFSETFROM:+0200
TZOFFSETTO:+0100
TZNAME:CET
DTSTART:20241027T010000
END:STANDARD
BEGIN:DAYLIGHT
TZOFFSETFROM:+0100
TZOFFSETTO:+0200
TZNAME:CEST
DTSTART:20250330T010000
END:DAYLIGHT
BEGIN:STANDARD
TZOFFSETFROM:+0200
TZOFFSETTO:+0100
TZNAME:CET
DTSTART:20251026T010000
END:STANDARD
BEGIN:DAYLIGHT
TZOFFSETFROM:+0100
TZOFFSETTO:+0200
TZNAME:CEST
DTSTART:20260329T010000
END:DAYLIGHT
BEGIN:STANDARD
TZOFFSETFROM:+0200
TZOFFSETTO:+0100
TZNAME:CET
DTSTART:20261025T010000
END:STANDARD
END:VTIMEZONE
BEGIN:VEVENT
DTSTART;VALUE=DATE:20250929
DTEND;VALUE=DATE:20251003
DTSTAMP:20260419T185632
CREATED:20250707T184544Z
LAST-MODIFIED:20250807T193912Z
UID:28795-1759104000-1759449599@kgs-schneverdingen.de
SUMMARY:Sigis Heidesafari
DESCRIPTION:Für die Schüler-/innen der Basisstufe. \n  \n29.9. & 30.9.: Klassen 5.1  / 5.3 / 5.5 / 5.8 \n1.10. & 2.10.: Klassen 5.2 / 5.4 / 5.6 / 5.7 / \n  \n 
URL:https://kgs-schneverdingen.de/event/sigis-heidesafari/
END:VEVENT
BEGIN:VEVENT
DTSTART;VALUE=DATE:20250929
DTEND;VALUE=DATE:20251011
DTSTAMP:20260419T185632
CREATED:20240919T101655Z
LAST-MODIFIED:20240919T101655Z
UID:27302-1759104000-1760140799@kgs-schneverdingen.de
SUMMARY:Betriebspraktikum Jg. 10 GYM
DESCRIPTION:
URL:https://kgs-schneverdingen.de/event/betriebspraktikum-jg-10-gym/
CATEGORIES:Betriebspraktika
END:VEVENT
BEGIN:VEVENT
DTSTART;VALUE=DATE:20250929
DTEND;VALUE=DATE:20251011
DTSTAMP:20260419T185632
CREATED:20240919T101734Z
LAST-MODIFIED:20240919T101734Z
UID:27304-1759104000-1760140799@kgs-schneverdingen.de
SUMMARY:Betriebspraktikum Jg. 10 HS
DESCRIPTION:
URL:https://kgs-schneverdingen.de/event/betriebspraktikum-jg-10-hs/
CATEGORIES:Betriebspraktika
END:VEVENT
BEGIN:VEVENT
DTSTART;VALUE=DATE:20251003
DTEND;VALUE=DATE:20251004
DTSTAMP:20260419T185632
CREATED:20250707T082537Z
LAST-MODIFIED:20250707T082537Z
UID:28718-1759449600-1759535999@kgs-schneverdingen.de
SUMMARY:Tag der Deutschen Einheit
DESCRIPTION:Unterrichtsfrei
URL:https://kgs-schneverdingen.de/event/tag-der-deutschen-einheit/
END:VEVENT
BEGIN:VEVENT
DTSTART;VALUE=DATE:20251006
DTEND;VALUE=DATE:20251011
DTSTAMP:20260419T185632
CREATED:20250210T153000Z
LAST-MODIFIED:20250210T153006Z
UID:27970-1759708800-1760140799@kgs-schneverdingen.de
SUMMARY:Vorhabenwoche 1 im SJ 25-26
DESCRIPTION:
URL:https://kgs-schneverdingen.de/event/vorhabenwoche-1-im-sj-25-26/
CATEGORIES:Vorhaben
END:VEVENT
BEGIN:VEVENT
DTSTART;TZID=Europe/Berlin:20251006T170000
DTEND;TZID=Europe/Berlin:20251006T180000
DTSTAMP:20260419T185632
CREATED:20251005T133140Z
LAST-MODIFIED:20251005T133140Z
UID:29029-1759770000-1759773600@kgs-schneverdingen.de
SUMMARY:FK Französisch
DESCRIPTION:
URL:https://kgs-schneverdingen.de/event/fk-franzoesisch/
END:VEVENT
BEGIN:VEVENT
DTSTART;TZID=Europe/Berlin:20251009T170000
DTEND;TZID=Europe/Berlin:20251009T180000
DTSTAMP:20260419T185632
CREATED:20251005T133314Z
LAST-MODIFIED:20251005T133314Z
UID:29031-1760029200-1760032800@kgs-schneverdingen.de
SUMMARY:FK Sport
DESCRIPTION:
URL:https://kgs-schneverdingen.de/event/fk-sport-2/
LOCATION:Raum E 49
END:VEVENT
BEGIN:VEVENT
DTSTART;VALUE=DATE:20251013
DTEND;VALUE=DATE:20251026
DTSTAMP:20260419T185632
CREATED:20250707T082437Z
LAST-MODIFIED:20250707T082437Z
UID:28716-1760313600-1761436799@kgs-schneverdingen.de
SUMMARY:Herbstferien
DESCRIPTION:
URL:https://kgs-schneverdingen.de/event/herbstferien/
CATEGORIES:Ferien
END:VEVENT
BEGIN:VEVENT
DTSTART;VALUE=DATE:20251027
DTEND;VALUE=DATE:20251031
DTSTAMP:20260419T185632
CREATED:20241216T074000Z
LAST-MODIFIED:20241216T074000Z
UID:27794-1761523200-1761868799@kgs-schneverdingen.de
SUMMARY:UNIwärts
DESCRIPTION:
URL:https://kgs-schneverdingen.de/event/uniwaerts-4/
LOCATION:Leuphana Universität\, Scharnhorststraße\, Lüneburg
CATEGORIES:Betriebspraktika
END:VEVENT
BEGIN:VEVENT
DTSTART;VALUE=DATE:20251027
DTEND;VALUE=DATE:20251108
DTSTAMP:20260419T185632
CREATED:20230929T102027Z
LAST-MODIFIED:20230929T102027Z
UID:25208-1761523200-1762559999@kgs-schneverdingen.de
SUMMARY:UNIwärts & Betriebspraktikum Jg. 11
DESCRIPTION:
URL:https://kgs-schneverdingen.de/event/uniwaerts-betriebspraktikum-jg-11/
END:VEVENT
BEGIN:VEVENT
DTSTART;TZID=Europe/Berlin:20251027T170000
DTEND;TZID=Europe/Berlin:20251027T200000
DTSTAMP:20260419T185632
CREATED:20250707T082714Z
LAST-MODIFIED:20250707T082714Z
UID:28720-1761584400-1761595200@kgs-schneverdingen.de
SUMMARY:Gesamtkonferenz
DESCRIPTION:
URL:https://kgs-schneverdingen.de/event/gesamtkonferenz/
LOCATION:Forum der KGS Schneverdingen\, Am Timmerahde 28-30\, Schnevedingen\, 29640\, Deutschland
END:VEVENT
BEGIN:VEVENT
DTSTART;VALUE=DATE:20251030
DTEND;VALUE=DATE:20251031
DTSTAMP:20260419T185632
CREATED:20250327T093245Z
LAST-MODIFIED:20250327T093245Z
UID:28152-1761782400-1761868799@kgs-schneverdingen.de
SUMMARY:Zwischennoten Basisstufe
DESCRIPTION:
URL:https://kgs-schneverdingen.de/event/zwischennoten-basisstufe/
END:VEVENT
BEGIN:VEVENT
DTSTART;VALUE=DATE:20251031
DTEND;VALUE=DATE:20251101
DTSTAMP:20260419T185632
CREATED:20250707T082821Z
LAST-MODIFIED:20250707T082821Z
UID:28722-1761868800-1761955199@kgs-schneverdingen.de
SUMMARY:Reformationstag
DESCRIPTION:Unterrichtsfrei
URL:https://kgs-schneverdingen.de/event/reformationstag-2/
END:VEVENT
END:VCALENDAR